Workbook

Sheet Checklist
A1: Business Success Checklist for Small Business Owners
A3: Name | Company: | B3: Date:
A5: Your income and lifestyle are entirely driven by the health of your business. This 10-minute diagnostic reveals the hidden operational and financial gaps holding you back, giving you a clear roadmap to claim more profit, control, and personal freedom. Rate your business below to identify the 3-4 high-impact strategies you need to implement over the next 90 days.
A6: Scoring Guide: Rate your business from 1-5 using the following guidelines: 1= We don't do this at all | 3= We do this inconsistently or manually | 5= This is fully systematized and always done
A8: Planning Mastery - Your Foundation | B8: Low High
A9: We have a written destination statement (vision) describing what the business looks like in 3 years | B9: 1 | C9: 2 | D9: 3 | E9: 4 | F9: 5
A10: I/We have a clear mission that is in writing and shared with others | B10: 1 | C10: 2 | D10: 3 | E10: 4 | F10: 5
A11: Our company core values are defined in writing and shared with othrs | B11: 1 | C11: 2 | D11: 3 | E11: 4 | F11: 5
A12: Our team knows our written values and relies on them to maintain a human touch in an automated world | B12: 1 | C12: 2 | D12: 3 | E12: 4 | F12: 5
A13: Our company performs a SWOT analysis annually and uses it for planning | B13: 1 | C13: 2 | D13: 3 | E13: 4 | F13: 5
A14: Our annual SWOT looks at technology threats, competition tech adoption and shifting customer habits | B14: 1 | C14: 2 | D14: 3 | E14: 4 | F14: 5
A15: We have a clear policy on how we use (and don't use) AI tools and technology to protect our brand and data | B15: 1 | C15: 2 | D15: 3 | E15: 4 | F15: 5
A16: We set 1-3 clear quarterly gals and review our progress weekly | B16: 1 | C16: 2 | D16: 3 | E16: 4 | F16: 5
A17: The company has a written, ACTIONABLE plan with strategic objectives and tactics to support it | B17: 1 | C17: 2 | D17: 3 | E17: 4 | F17: 5
A18: Our action plan is built to pivot; we review market quarterly and adjust goals as needed | B18: 1 | C18: 2 | D18: 3 | E18: 4 | F18: 5
A19: Every team member knows which 1-2 metrics (KPIs) they are personally responsible for hitting | B19: 1 | C19: 2 | D19: 3 | E19: 4 | F19: 5
A20: The team is engaged in planning sessions and business goals are communicated to all | B20: 1 | C20: 2 | D20: 3 | E20: 4 | F20: 5
A21: Total | B21: =SUM(G9:G20) -> 0
A22: Product (Services) Mastery - Maximizing Value | B22: Low High
A23: We keep a pulse on the market (customers) through surveys, feedback and research | B23: 1 | C23: 2 | D23: 3 | E23: 4 | F23: 5
A24: We use customer data responsibly to tailor our services to indivudal customer preferences | B24: 1 | C24: 2 | D24: 3 | E24: 4 | F24: 5
A25: We have a niche and can confidently explain why we charge more than our cheapest competitor without losing the sale | B25: 1 | C25: 2 | D25: 3 | E25: 4 | F25: 5
A26: We have and use a value-based pricing model to reflect costs, expertise and results | B26: 1 | C26: 2 | D26: 3 | E26: 4 | F26: 5
A27: We routinely 'mystery shop' our buying process to remove friction -- fix slow response times or clunky steps | B27: 1 | C27: 2 | D27: 3 | E27: 4 | F27: 5
A28: We look for opportunities to expand or improve our products/services with profit objectives in mind | B28: 1 | C28: 2 | D28: 3 | E28: 4 | F28: 5
A29: We look for opportunities to add digital assets, portals or hybrid elements to boost margins | B29: 1 | C29: 2 | D29: 3 | E29: 4 | F29: 5
A30: Our team is knowledgeable about our products and knows how to educate customers | B30: 1 | C30: 2 | D30: 3 | E30: 4 | F30: 5
A31: I/We have a good knowledge of competitors and their practices | B31: 1 | C31: 2 | D31: 3 | E31: 4 | F31: 5
A32: I/We seek and take advantage of recurring and/or residual product opportunities | B32: 1 | C32: 2 | D32: 3 | E32: 4 | F32: 5
A33: Our team understands the profit margins for all our products/services | B33: 1 | C33: 2 | D33: 3 | E33: 4 | F33: 5
A34: Total | B34: =SUM(G23:G33) -> 0
A35: Revenue Mastery - Attracting & Retaining | B35: Low High
A36: We track our monthly sales closing rate and actively work on strategies to lift it | B36: 1 | C36: 2 | D36: 3 | E36: 4 | F36: 5
A37: We have a unique selling (value) proposition and every member of the team knows and understands it | B37: 1 | C37: 2 | D37: 3 | E37: 4 | F37: 5
A38: Everyone is aware of the lifetime value of our customers and continuously seeks to improve it | B38: 1 | C38: 2 | D38: 3 | E38: 4 | F38: 5
A39: We have clearly defined targets for our products/services -- and don't try to be all things to all people | B39: 1 | C39: 2 | D39: 3 | E39: 4 | F39: 5
A40: We utilize a step-by-step marketing plan to increase customers, revenue and profits | B40: 1 | C40: 2 | D40: 3 | E40: 4 | F40: 5
A41: Our sales pipeline has an automated follow-up sequence that hits prospects at least 10 times via email, text, call | B41: 1 | C41: 2 | D41: 3 | E41: 4 | F41: 5
A42: We have at least 5 systematized ways to generate leads for our products / services | B42: 1 | C42: 2 | D42: 3 | E42: 4 | F42: 5
A43: We systematically offer an upsell or add-on at the point of purchase (time of sale) | B43: 1 | C43: 2 | D43: 3 | E43: 4 | F43: 5
...

Sheet Report.Graph
A1: Report & Graph
A4: Areas of Success | C4: % | D4: Score | E4: Weight % | F4: Total
A5: 1 | B5: Planning & Foundation | C5: =D5/(9*5) -> 0 | D5: =SUM(Checklist!B21) -> 0 | E5: 0.1 | F5: =C5*E5 -> 0
A6: 2 | B6: Products & Positioning | C6: =D6/(11*5) -> 0 | D6: =SUM(Checklist!B34) -> 0 | E6: 0.1 | F6: =C6*E6 -> 0
A7: 3 | B7: Acquisition & Retention | C7: =D7/(27*5) -> 0 | D7: =SUM(Checklist!B63) -> 0 | E7: 0.2 | F7: =C7*E7 -> 0
A8: 4 | B8: Systems & Automation | C8: =D8/(20*5) -> 0 | D8: =SUM(Checklist!B88) -> 0 | E8: 0.15 | F8: =C8*E8 -> 0
A9: 5 | B9: People & Culture | C9: =D9/(20*5) -> 0 | D9: =SUM(Checklist!B115) -> 0 | E9: 0.15 | F9: =C9*E9 -> 0
A10: 6 | B10: Personal Development | C10: =D10/(17*5) -> 0 | D10: =SUM(Checklist!B128) -> 0 | E10: 0.1 | F10: =C10*E10 -> 0
A11: 7 | B11: Profit & Risk Management | C11: =D11/(23*5) -> 0 | D11: =SUM(Checklist!B155) -> 0 | E11: 0.2 | F11: =C11*E11 -> 0
A12: 8 | B12: Overall Score | C12: =SUM(C5:C11)/7 -> 0 | E12: =SUM(E5:E11) -> 1 | F12: =SUM(F5:F11) -> 0
